BEGIN:VCALENDAR
VERSION:2.0
PRODID:-//Sale Creek Middle High - ECPv6.15.20//NONSGML v1.0//EN
CALSCALE:GREGORIAN
METHOD:PUBLISH
X-WR-CALNAME:Sale Creek Middle High
X-ORIGINAL-URL:https://scmhs.hcde.org
X-WR-CALDESC:Events for Sale Creek Middle High
REFRESH-INTERVAL;VALUE=DURATION:PT1H
X-Robots-Tag:noindex
X-PUBLISHED-TTL:PT1H
BEGIN:VTIMEZONE
TZID:America/New_York
BEGIN:DAYLIGHT
TZOFFSETFROM:-0500
TZOFFSETTO:-0400
TZNAME:EDT
DTSTART:20250309T070000
END:DAYLIGHT
BEGIN:STANDARD
TZOFFSETFROM:-0400
TZOFFSETTO:-0500
TZNAME:EST
DTSTART:20251102T060000
END:STANDARD
BEGIN:DAYLIGHT
TZOFFSETFROM:-0500
TZOFFSETTO:-0400
TZNAME:EDT
DTSTART:20260308T070000
END:DAYLIGHT
BEGIN:STANDARD
TZOFFSETFROM:-0400
TZOFFSETTO:-0500
TZNAME:EST
DTSTART:20261101T060000
END:STANDARD
BEGIN:DAYLIGHT
TZOFFSETFROM:-0500
TZOFFSETTO:-0400
TZNAME:EDT
DTSTART:20270314T070000
END:DAYLIGHT
BEGIN:STANDARD
TZOFFSETFROM:-0400
TZOFFSETTO:-0500
TZNAME:EST
DTSTART:20271107T060000
END:STANDARD
END:VTIMEZONE
BEGIN:VEVENT
DTSTART;TZID=America/New_York:20260416T180000
DTEND;TZID=America/New_York:20260416T190000
DTSTAMP:20260419T195822
CREATED:20260303T142807Z
LAST-MODIFIED:20260303T142807Z
UID:10000078-1776362400-1776366000@scmhs.hcde.org
SUMMARY:HS Boys Soccer v. Harriman
DESCRIPTION:
URL:https://scmhs.hcde.org/event/hs-boys-soccer-v-harriman/
CATEGORIES:Schools
END:VEVENT
BEGIN:VEVENT
DTSTART;TZID=America/New_York:20260416T170000
DTEND;TZID=America/New_York:20260416T190000
DTSTAMP:20260419T195822
CREATED:20260303T142807Z
LAST-MODIFIED:20260303T142807Z
UID:10000079-1776358800-1776366000@scmhs.hcde.org
SUMMARY:MS Softball v. East Hamilton
DESCRIPTION:
URL:https://scmhs.hcde.org/event/ms-softball-v-east-hamilton/
CATEGORIES:Schools
END:VEVENT
BEGIN:VEVENT
DTSTART;TZID=America/New_York:20260416T160000
DTEND;TZID=America/New_York:20260416T170000
DTSTAMP:20260419T195822
CREATED:20260303T142807Z
LAST-MODIFIED:20260303T142807Z
UID:10000077-1776355200-1776358800@scmhs.hcde.org
SUMMARY:MS Soccer v. SDMS
DESCRIPTION:
URL:https://scmhs.hcde.org/event/ms-soccer-v-sdms/
CATEGORIES:Schools
END:VEVENT
BEGIN:VEVENT
DTSTART;VALUE=DATE:20260416
DTEND;VALUE=DATE:20260417
DTSTAMP:20260419T195822
CREATED:20260303T142807Z
LAST-MODIFIED:20260303T142807Z
UID:10000076-1776297600-1776383999@scmhs.hcde.org
SUMMARY:MS Baseball v. Hunter Middle
DESCRIPTION:
URL:https://scmhs.hcde.org/event/ms-baseball-v-hunter-middle/
CATEGORIES:Schools
END:VEVENT
BEGIN:VEVENT
DTSTART;TZID=America/New_York:20260415T173000
DTEND;TZID=America/New_York:20260415T193000
DTSTAMP:20260419T195822
CREATED:20260303T142807Z
LAST-MODIFIED:20260303T142807Z
UID:10000075-1776274200-1776281400@scmhs.hcde.org
SUMMARY:MS Softball v. Hixson
DESCRIPTION:
URL:https://scmhs.hcde.org/event/ms-softball-v-hixson/
CATEGORIES:Schools
END:VEVENT
BEGIN:VEVENT
DTSTART;TZID=America/New_York:20260415T173000
DTEND;TZID=America/New_York:20260415T183000
DTSTAMP:20260419T195822
CREATED:20260309T151532Z
LAST-MODIFIED:20260309T151532Z
UID:10000111-1776274200-1776277800@scmhs.hcde.org
SUMMARY:HS Flag Football v. Tyner
DESCRIPTION:
URL:https://scmhs.hcde.org/event/hs-flag-football-v-tyner/
CATEGORIES:Schools
END:VEVENT
BEGIN:VEVENT
DTSTART;VALUE=DATE:20260415
DTEND;VALUE=DATE:20260416
DTSTAMP:20260419T195822
CREATED:20260303T142807Z
LAST-MODIFIED:20260303T142807Z
UID:10000074-1776211200-1776297599@scmhs.hcde.org
SUMMARY:MS Baseball v. Lookout Valley
DESCRIPTION:
URL:https://scmhs.hcde.org/event/ms-baseball-v-lookout-valley/
CATEGORIES:Schools
END:VEVENT
BEGIN:VEVENT
DTSTART;TZID=America/New_York:20260414T180000
DTEND;TZID=America/New_York:20260414T193000
DTSTAMP:20260419T195822
CREATED:20260309T151531Z
LAST-MODIFIED:20260309T151531Z
UID:10000110-1776189600-1776195000@scmhs.hcde.org
SUMMARY:HS Flag Football v. Rhea County
DESCRIPTION:
URL:https://scmhs.hcde.org/event/hs-flag-football-v-rhea-county/
CATEGORIES:Schools
END:VEVENT
BEGIN:VEVENT
DTSTART;TZID=America/New_York:20260414T173000
DTEND;TZID=America/New_York:20260414T183000
DTSTAMP:20260419T195822
CREATED:20260303T142807Z
LAST-MODIFIED:20260303T142807Z
UID:10000073-1776187800-1776191400@scmhs.hcde.org
SUMMARY:HS Softball v. Lookout Valley
DESCRIPTION:
URL:https://scmhs.hcde.org/event/hs-softball-v-lookout-valley/
CATEGORIES:Schools
END:VEVENT
BEGIN:VEVENT
DTSTART;TZID=America/New_York:20260413T180000
DTEND;TZID=America/New_York:20260413T190000
DTSTAMP:20260419T195822
CREATED:20260303T142806Z
LAST-MODIFIED:20260303T142806Z
UID:10000072-1776103200-1776106800@scmhs.hcde.org
SUMMARY:HS Baseball v. Whitwell
DESCRIPTION:
URL:https://scmhs.hcde.org/event/hs-baseball-v-whitwell/
CATEGORIES:Schools
END:VEVENT
BEGIN:VEVENT
DTSTART;TZID=America/New_York:20260413T170000
DTEND;TZID=America/New_York:20260413T180000
DTSTAMP:20260419T195822
CREATED:20260303T142806Z
LAST-MODIFIED:20260303T142806Z
UID:10000071-1776099600-1776103200@scmhs.hcde.org
SUMMARY:HS Softball v. Ooltewah
DESCRIPTION:
URL:https://scmhs.hcde.org/event/hs-softball-v-ooltewah/
CATEGORIES:Schools
END:VEVENT
BEGIN:VEVENT
DTSTART;TZID=America/New_York:20260411T190000
DTEND;TZID=America/New_York:20260411T220000
DTSTAMP:20260419T195822
CREATED:20260302T212036Z
LAST-MODIFIED:20260302T212045Z
UID:10000021-1775934000-1775944800@scmhs.hcde.org
SUMMARY:Prom
DESCRIPTION:
URL:https://scmhs.hcde.org/event/prom/
CATEGORIES:Schools
END:VEVENT
BEGIN:VEVENT
DTSTART;TZID=America/New_York:20260410T180000
DTEND;TZID=America/New_York:20260410T190000
DTSTAMP:20260419T195822
CREATED:20260303T142806Z
LAST-MODIFIED:20260303T142806Z
UID:10000070-1775844000-1775847600@scmhs.hcde.org
SUMMARY:HS Baseball v. Bledsoe
DESCRIPTION:
URL:https://scmhs.hcde.org/event/hs-baseball-v-bledsoe-2/
CATEGORIES:Schools
END:VEVENT
BEGIN:VEVENT
DTSTART;TZID=America/New_York:20260409T190000
DTEND;TZID=America/New_York:20260409T200000
DTSTAMP:20260419T195822
CREATED:20260303T142806Z
LAST-MODIFIED:20260303T142806Z
UID:10000069-1775761200-1775764800@scmhs.hcde.org
SUMMARY:HS Boys Soccer v. CSAS
DESCRIPTION:
URL:https://scmhs.hcde.org/event/hs-boys-soccer-v-csas/
CATEGORIES:Schools
END:VEVENT
BEGIN:VEVENT
DTSTART;TZID=America/New_York:20260409T171500
DTEND;TZID=America/New_York:20260409T181500
DTSTAMP:20260419T195822
CREATED:20260303T142806Z
LAST-MODIFIED:20260303T142806Z
UID:10000068-1775754900-1775758500@scmhs.hcde.org
SUMMARY:MS Soccer v. CSAS
DESCRIPTION:
URL:https://scmhs.hcde.org/event/ms-soccer-v-csas/
CATEGORIES:Schools
END:VEVENT
BEGIN:VEVENT
DTSTART;TZID=America/New_York:20260408T173000
DTEND;TZID=America/New_York:20260408T200000
DTSTAMP:20260419T195822
CREATED:20260303T142805Z
LAST-MODIFIED:20260303T142805Z
UID:10000066-1775669400-1775678400@scmhs.hcde.org
SUMMARY:MS Softball v. Tyner & Dalewood
DESCRIPTION:
URL:https://scmhs.hcde.org/event/ms-softball-v-tyner-dalewood/
CATEGORIES:Schools
END:VEVENT
BEGIN:VEVENT
DTSTART;VALUE=DATE:20260408
DTEND;VALUE=DATE:20260409
DTSTAMP:20260419T195822
CREATED:20260303T142806Z
LAST-MODIFIED:20260303T142806Z
UID:10000067-1775606400-1775692799@scmhs.hcde.org
SUMMARY:MS Baseball v. Brown 8th Grade Night
DESCRIPTION:
URL:https://scmhs.hcde.org/event/ms-baseball-v-brown-8th-grade-night/
CATEGORIES:Schools
END:VEVENT
BEGIN:VEVENT
DTSTART;TZID=America/New_York:20260407T183000
DTEND;TZID=America/New_York:20260407T193000
DTSTAMP:20260419T195822
CREATED:20260303T142805Z
LAST-MODIFIED:20260303T142805Z
UID:10000065-1775586600-1775590200@scmhs.hcde.org
SUMMARY:HS Boys Soccer v. Marion County
DESCRIPTION:
URL:https://scmhs.hcde.org/event/hs-boys-soccer-v-marion-county/
CATEGORIES:Schools
END:VEVENT
BEGIN:VEVENT
DTSTART;TZID=America/New_York:20260407T180000
DTEND;TZID=America/New_York:20260407T190000
DTSTAMP:20260419T195822
CREATED:20260407T133421Z
LAST-MODIFIED:20260407T133421Z
UID:10000115-1775584800-1775588400@scmhs.hcde.org
SUMMARY:MS Baseball v. Bledsoe (8th Grade Night)
DESCRIPTION:
URL:https://scmhs.hcde.org/event/ms-baseball-v-bledsoe-8th-grade-night/
END:VEVENT
BEGIN:VEVENT
DTSTART;TZID=America/New_York:20260407T160000
DTEND;TZID=America/New_York:20260407T170000
DTSTAMP:20260419T195822
CREATED:20260303T142805Z
LAST-MODIFIED:20260303T142805Z
UID:10000064-1775577600-1775581200@scmhs.hcde.org
SUMMARY:MS Soccer v. Chatt Academy
DESCRIPTION:
URL:https://scmhs.hcde.org/event/ms-soccer-v-chatt-academy/
CATEGORIES:Schools
END:VEVENT
BEGIN:VEVENT
DTSTART;TZID=America/New_York:20260406T183000
DTEND;TZID=America/New_York:20260406T193000
DTSTAMP:20260419T195822
CREATED:20260323T170142Z
LAST-MODIFIED:20260323T170142Z
UID:10000114-1775500200-1775503800@scmhs.hcde.org
SUMMARY:HS Boys Soccer v Central Sr. Night
DESCRIPTION:
URL:https://scmhs.hcde.org/event/hs-boys-soccer-v-central-sr-night/
CATEGORIES:Schools
END:VEVENT
BEGIN:VEVENT
DTSTART;TZID=America/New_York:20260406T180000
DTEND;TZID=America/New_York:20260406T190000
DTSTAMP:20260419T195822
CREATED:20260303T142805Z
LAST-MODIFIED:20260303T142805Z
UID:10000063-1775498400-1775502000@scmhs.hcde.org
SUMMARY:HS Baseball v. South Pitt
DESCRIPTION:
URL:https://scmhs.hcde.org/event/hs-baseball-v-south-pitt/
CATEGORIES:Schools
END:VEVENT
BEGIN:VEVENT
DTSTART;TZID=America/New_York:20260406T173000
DTEND;TZID=America/New_York:20260406T183000
DTSTAMP:20260419T195822
CREATED:20260303T142805Z
LAST-MODIFIED:20260303T142805Z
UID:10000062-1775496600-1775500200@scmhs.hcde.org
SUMMARY:MS Softball v. CGLA
DESCRIPTION:
URL:https://scmhs.hcde.org/event/ms-softball-v-cgla/
CATEGORIES:Schools
END:VEVENT
BEGIN:VEVENT
DTSTART;TZID=America/New_York:20260406T163000
DTEND;TZID=America/New_York:20260406T173000
DTSTAMP:20260419T195822
CREATED:20260323T170142Z
LAST-MODIFIED:20260323T170142Z
UID:10000113-1775493000-1775496600@scmhs.hcde.org
SUMMARY:MS Soccer v. Brown 8th Grade Night
DESCRIPTION:
URL:https://scmhs.hcde.org/event/ms-soccer-v-brown-8th-grade-night/
CATEGORIES:Schools
END:VEVENT
BEGIN:VEVENT
DTSTART;VALUE=DATE:20260405
DTEND;VALUE=DATE:20260407
DTSTAMP:20260419T195822
CREATED:20250701T175042Z
LAST-MODIFIED:20250701T175042Z
UID:10000008-1775347200-1775519999@scmhs.hcde.org
SUMMARY:Easter Day
DESCRIPTION:
URL:https://scmhs.hcde.org/event/easter-day/
CATEGORIES:US Holiday
END:VEVENT
BEGIN:VEVENT
DTSTART;VALUE=DATE:20260403
DTEND;VALUE=DATE:20260404
DTSTAMP:20260419T195822
CREATED:20260303T142805Z
LAST-MODIFIED:20260303T142805Z
UID:10000061-1775174400-1775260799@scmhs.hcde.org
SUMMARY:No School - Good Friday
DESCRIPTION:
URL:https://scmhs.hcde.org/event/no-school-good-friday/
CATEGORIES:Schools
END:VEVENT
BEGIN:VEVENT
DTSTART;TZID=America/New_York:20260402T170000
DTEND;TZID=America/New_York:20260402T190000
DTSTAMP:20260419T195822
CREATED:20260224T180529Z
LAST-MODIFIED:20260224T180529Z
UID:10000020-1775149200-1775156400@scmhs.hcde.org
SUMMARY:STEAM Night
DESCRIPTION:[vc_row type=”in_container” full_screen_row_position=”middle” column_margin=”default” column_direction=”default” column_direction_tablet=”default” column_direction_phone=”default” scene_position=”center” text_color=”dark” text_align=”left” row_border_radius=”none” row_border_radius_applies=”bg” row_position_desktop=”default” row_position_tablet=”inherit” row_position_phone=”inherit” overflow=”visible” overlay_strength=”0.3″ gradient_direction=”left_to_right” shape_divider_position=”bottom” bg_image_animation=”none”][vc_column column_padding=”no-extra-padding” column_padding_tablet=”inherit” column_padding_phone=”inherit” column_padding_position=”all” flex_gap_desktop=”10px” column_element_direction_desktop=”default” column_element_spacing=”default” desktop_text_alignment=”default” tablet_text_alignment=”default” phone_text_alignment=”default” background_color_opacity=”1″ background_hover_color_opacity=”1″ column_backdrop_filter=”none” column_shadow=”none” column_border_radius=”none” column_link_target=”_self” column_position=”default” gradient_direction=”left_to_right” overlay_strength=”0.3″ width=”1/1″ tablet_width_inherit=”default” animation_type=”default” bg_image_animation=”none” border_type=”simple” column_border_width=”none” column_border_style=”solid”][/vc_column][/vc_row]
URL:https://scmhs.hcde.org/event/steam-night/
CATEGORIES:Schools
END:VEVENT
BEGIN:VEVENT
DTSTART;TZID=America/New_York:20260401T173000
DTEND;TZID=America/New_York:20260401T183000
DTSTAMP:20260419T195822
CREATED:20260303T142804Z
LAST-MODIFIED:20260303T142804Z
UID:10000060-1775064600-1775068200@scmhs.hcde.org
SUMMARY:MS Softball v. CSLA
DESCRIPTION:
URL:https://scmhs.hcde.org/event/ms-softball-v-csla/
CATEGORIES:Schools
END:VEVENT
BEGIN:VEVENT
DTSTART;TZID=America/New_York:20260401T170000
DTEND;TZID=America/New_York:20260401T190000
DTSTAMP:20260419T195822
CREATED:20260309T151531Z
LAST-MODIFIED:20260309T151531Z
UID:10000109-1775062800-1775070000@scmhs.hcde.org
SUMMARY:HS Flag Football v. Signal Mtn
DESCRIPTION:
URL:https://scmhs.hcde.org/event/hs-flag-football-v-signal-mtn/
CATEGORIES:Schools
END:VEVENT
BEGIN:VEVENT
DTSTART;VALUE=DATE:20260401
DTEND;VALUE=DATE:20260402
DTSTAMP:20260419T195822
CREATED:20260303T142804Z
LAST-MODIFIED:20260303T142804Z
UID:10000058-1775001600-1775087999@scmhs.hcde.org
SUMMARY:MS Baseball v. Orchard Knob
DESCRIPTION:
URL:https://scmhs.hcde.org/event/ms-baseball-v-orchard-knob/
CATEGORIES:Schools
END:VEVENT
END:VCALENDAR